BEGIN:VCALENDAR
VERSION:2.0
PRODID:-//Every Girl Shines - ECPv6.12.0.1//NONSGML v1.0//EN
CALSCALE:GREGORIAN
METHOD:PUBLISH
X-WR-CALNAME:Every Girl Shines
X-ORIGINAL-URL:https://everygirlshines.org
X-WR-CALDESC:Events for Every Girl Shines
REFRESH-INTERVAL;VALUE=DURATION:PT1H
X-Robots-Tag:noindex
X-PUBLISHED-TTL:PT1H
BEGIN:VTIMEZONE
TZID:UTC
BEGIN:STANDARD
TZOFFSETFROM:+0000
TZOFFSETTO:+0000
TZNAME:UTC
DTSTART:20200101T000000
END:STANDARD
END:VTIMEZONE
BEGIN:VEVENT
DTSTART;TZID=UTC:20200926T110000
DTEND;TZID=UTC:20200926T130000
DTSTAMP:20260421T054212
CREATED:20200828T015655Z
LAST-MODIFIED:20201109T011131Z
UID:1203-1601118000-1601125200@everygirlshines.org
SUMMARY:LeaderSHINE Summit: Shining from Within
DESCRIPTION:Our focus this year is on “Shining from Within”. Our Virtual Summit is a half day of engaging workshops and interactive breakout sessions to help our stars shine from within.
URL:https://everygirlshines.org/event/leadershine-summit-shining-from-within/
LOCATION:Washington
CATEGORIES:Our Events
ATTACH;FMTTYPE=image/jpeg:https://everygirlshines.org/wp-content/uploads/2020/08/virtual-event.jpg
END:VEVENT
BEGIN:VEVENT
DTSTART;TZID=UTC:20201205T120000
DTEND;TZID=UTC:20201205T140000
DTSTAMP:20260421T054212
CREATED:20201109T011001Z
LAST-MODIFIED:20210118T210441Z
UID:1214-1607169600-1607176800@everygirlshines.org
SUMMARY:VIRTUAL HOLIDAY PARTY
DESCRIPTION:Grab your favorite snack\, put on your Ugly Sweater and join us for fun games and music! \nWe will have prizes for 1st\, 2nd and 3rd Place winners. \nFeel free to decorate your virtual background\, too! \nFor our Core Value of ‘Loving Others’ we are adopting families in need and fulfilling their holiday wish lists. \nGeorgia – The Joan French Foundation \nFlorida –   The Salvation Army Angel Tree \nDonations can be made on our website or cashapp $EveryGirlShines.
URL:https://everygirlshines.org/event/virtual-holiday-party/
LOCATION:Washington
CATEGORIES:Our Events
ATTACH;FMTTYPE=image/jpeg:https://everygirlshines.org/wp-content/uploads/2020/11/egs-holiday-party-v.jpg
END:VEVENT
BEGIN:VEVENT
DTSTART;TZID=UTC:20240714T120000
DTEND;TZID=UTC:20240714T170000
DTSTAMP:20260421T054212
CREATED:20241120T235231Z
LAST-MODIFIED:20241121T002020Z
UID:2158-1720958400-1720976400@everygirlshines.org
SUMMARY:Seattle Storm WNBA Game Fundraiser
DESCRIPTION:We’re thrilled to announce the celebration of our first annual WNBA partnership with the Seattle Storm!\nAs the community spotlight\, we had the incredible opportunity to share our mission and vision with the entire arena. Our table was filled with shining moments\, and our girls had an amazing time participating in the pregame fan tunnel. To top it all off\, we celebrated a fantastic win! We can’t wait for next year to build on this amazing experience.
URL:https://everygirlshines.org/event/seattle-storm-wnba-game-fundraiser/
LOCATION:climate pledge arena\, Seattle\, Washington
END:VEVENT
END:VCALENDAR