BEGIN:VCALENDAR
VERSION:2.0
PRODID:-//Every Girl Shines - ECPv6.12.0.1//NONSGML v1.0//EN
CALSCALE:GREGORIAN
METHOD:PUBLISH
X-WR-CALNAME:Every Girl Shines
X-ORIGINAL-URL:https://everygirlshines.org
X-WR-CALDESC:Events for Every Girl Shines
REFRESH-INTERVAL;VALUE=DURATION:PT1H
X-Robots-Tag:noindex
X-PUBLISHED-TTL:PT1H
BEGIN:VTIMEZONE
TZID:UTC
BEGIN:STANDARD
TZOFFSETFROM:+0000
TZOFFSETTO:+0000
TZNAME:UTC
DTSTART:20190101T000000
END:STANDARD
END:VTIMEZONE
BEGIN:VEVENT
DTSTART;TZID=UTC:20190316T110000
DTEND;TZID=UTC:20190316T160000
DTSTAMP:20260421T060450
CREATED:20181128T064136Z
LAST-MODIFIED:20241115T153200Z
UID:245-1552734000-1552752000@everygirlshines.org
SUMMARY:Annual Opening
DESCRIPTION:The kickoff to a new year when our Mentors are introduced to their Mentees and their Parents/Guardians. Our time together includes vision board party\, lunch\, program overview and guest speaker.
URL:https://everygirlshines.org/event/annual-opening/
CATEGORIES:Our Events
ATTACH;FMTTYPE=image/jpeg:https://everygirlshines.org/wp-content/uploads/2018/11/annual-opening.jpeg
END:VEVENT
END:VCALENDAR